BEGIN:VCALENDAR
VERSION:2.0
PRODID:-//wp-events-plugin.com//7.2.3.1//EN
TZID:Europe/London
X-WR-TIMEZONE:Europe/London
BEGIN:VEVENT
UID:14@bramfordparishcouncil.gov.uk
DTSTART;TZID=Europe/London:20260507T070000
DTEND;TZID=Europe/London:20260507T220000
DTSTAMP:20260415T123358Z
URL:https://bramfordparishcouncil.gov.uk/events/suffolkcountycouncil-elect
 ion-of-countycouncillors-to-gippingvalleydivision/
SUMMARY:SuffolkCountyCouncil Election of CountyCouncillors to GippingValley
 Division
DESCRIPTION:SCC - Statement of Persons Nominated\n\nSCC - Notice of Poll an
 d Situation of polling stationsSCC - Notice of Poll and Situation of polli
 ng stations\n\nSCC - Notice of Election Agents
END:VEVENT
BEGIN:VTIMEZONE
TZID:Europe/London
X-LIC-LOCATION:Europe/London
BEGIN:DAYLIGHT
DTSTART:20260329T020000
TZOFFSETFROM:+0000
TZOFFSETTO:+0100
TZNAME:BST
END:DAYLIGHT
END:VTIMEZONE
END:VCALENDAR